BEGIN:VCALENDAR
VERSION:2.0
PRODID:-//Squarespace Inc/Squarespace 6//v6//EN
BEGIN:VEVENT
UID:58d4923b6a49630cabcd838d@squarespace.com
DTSTAMP:20170324T032841Z
DTSTART:20170723T003000Z
DTEND:20170723T013000Z
SUMMARY:Thredbo Lounge Bar - DUO
GEO:-36.501296;148.310377
LOCATION:Thredbo Lounge Bar\, Thredbo
END:VEVENT
END:VCALENDAR
