BEGIN:VCALENDAR
VERSION:2.0
PRODID:-//Squarespace Inc/Squarespace 6//v6//EN
BEGIN:VEVENT
UID:5951bf6e2cba5e163e525f2c@squarespace.com
DTSTAMP:20170627T021458Z
DTSTART:20170701T230000Z
DTEND:20170702T020000Z
SUMMARY:Thredbo Lounge Bar DUO
END:VEVENT
END:VCALENDAR
