BEGIN:VCALENDAR
VERSION:2.0
PRODID:-//Squarespace Inc/Squarespace 6//v6//EN
BEGIN:VEVENT
UID:5951be8978d171b90598d434@squarespace.com
DTSTAMP:20170627T021354Z
DTSTART:20170630T230000Z
DTEND:20170701T020000Z
SUMMARY:Thredbo Lounge Bar DUO
END:VEVENT
END:VCALENDAR
