BEGIN:VCALENDAR
VERSION:2.0
PRODID:-//Squarespace Inc/Squarespace 6//v6//EN
BEGIN:VEVENT
UID:5951be42ebbd1ae9dcd4d799@squarespace.com
DTSTAMP:20170627T022258Z
DTSTART:20170629T230000Z
DTEND:20170630T020000Z
SUMMARY:Thredbo Lounge Bar DUO
END:VEVENT
END:VCALENDAR
