BEGIN:VCALENDAR
VERSION:2.0
PRODID:-//Squarespace Inc/Squarespace 6//v6//EN
BEGIN:VEVENT
UID:5951c09846c3c44a01a29fcb@squarespace.com
DTSTAMP:20170627T022155Z
DTSTART:20170708T010000Z
DTEND:20170708T035900Z
SUMMARY:The Kave Bar Newport\, TRIO
END:VEVENT
END:VCALENDAR
