BEGIN:VCALENDAR
VERSION:2.0
PRODID:-//Squarespace Inc/Squarespace 6//v6//EN
BEGIN:VEVENT
UID:58d494e3893fc0bdd138f1ec@squarespace.com
DTSTAMP:20170324T033947Z
DTSTART:20170815T000000Z
DTEND:20170815T010000Z
SUMMARY:White Spider Perisher
GEO:-36.40589;148.411726
LOCATION:White Spider\, Perisher Valley
END:VEVENT
END:VCALENDAR
