BEGIN:VCALENDAR
VERSION:2.0
PRODID:-//Squarespace Inc/Squarespace 6//v6//EN
BEGIN:VEVENT
UID:58d4950d37c581845701bd3a@squarespace.com
DTSTAMP:20170324T034033Z
DTSTART:20170816T000000Z
DTEND:20170816T010000Z
SUMMARY:White Spider Perisher
GEO:-36.40589;148.411726
LOCATION:White Spider\, Perisher Valley
END:VEVENT
END:VCALENDAR
