BEGIN:VCALENDAR
VERSION:2.0
PRODID:-//Squarespace Inc/Squarespace 6//v6//EN
BEGIN:VEVENT
UID:58d4954929687f49a5c7f7d9@squarespace.com
DTSTAMP:20170816T070144Z
DTSTART:20170817T010000Z
DTEND:20170817T034500Z
SUMMARY:Smiggins Hotel TRIO
GEO:-36.39267;148.426342
LOCATION:Smiggins Hotel
END:VEVENT
END:VCALENDAR
