BEGIN:VCALENDAR
VERSION:2.0
PRODID:-//Squarespace Inc/Squarespace 6//v6//EN
BEGIN:VEVENT
UID:5993ebf2d7bdce6669a50fe7@squarespace.com
DTSTAMP:20170816T065354Z
DTSTART:20170817T200000Z
DTEND:20170817T223000Z
SUMMARY:White Spider Perisher
GEO:-36.40589;148.411726
LOCATION:White Spider\, Perisher Valley
END:VEVENT
END:VCALENDAR
