BEGIN:VCALENDAR
VERSION:2.0
PRODID:-//Squarespace Inc/Squarespace 6//v6//EN
BEGIN:VEVENT
UID:5993ec40f9a61e0c27ea267e@squarespace.com
DTSTAMP:20170816T065543Z
DTSTART:20170819T200000Z
DTEND:20170819T223000Z
SUMMARY:White Spider Perisher
GEO:-36.40589;148.411726
LOCATION:White Spider\, Perisher Valley
END:VEVENT
END:VCALENDAR
