BEGIN:VCALENDAR
VERSION:2.0
PRODID:-//Squarespace Inc/Squarespace 6//v6//EN
BEGIN:VEVENT
UID:58d49587c534a598c8c92d95@squarespace.com
DTSTAMP:20170816T065322Z
DTSTART:20170818T200000Z
DTEND:20170818T223000Z
SUMMARY:White Spider Perisher
GEO:-36.40589;148.411726
LOCATION:White Spider\, Perisher Valley
END:VEVENT
END:VCALENDAR
