BEGIN:VCALENDAR
VERSION:2.0
PRODID:-//Squarespace Inc/Squarespace 6//v6//EN
BEGIN:VEVENT
UID:58d49604ff7c501d4432f6f0@squarespace.com
DTSTAMP:20170816T065634Z
DTSTART:20170820T010000Z
DTEND:20170820T033000Z
SUMMARY:White Spider Perisher EVENING
GEO:-36.40589;148.411726
LOCATION:White Spider\, Perisher Valley
END:VEVENT
END:VCALENDAR
