BEGIN:VCALENDAR
VERSION:2.0
PRODID:-//Squarespace Inc/Squarespace 6//v6//EN
BEGIN:VEVENT
UID:58d492a5c534a598c8c9122e@squarespace.com
DTSTAMP:20170802T120922Z
DTSTART:20170804T003000Z
DTEND:20170804T013000Z
SUMMARY:Thredbo Schuss Bar - DUO
GEO:-36.504558;148.304878
LOCATION:Thredbo Lounge Bar
END:VEVENT
END:VCALENDAR
