BEGIN:VCALENDAR
VERSION:2.0
PRODID:-//Squarespace Inc/Squarespace 6//v6//EN
BEGIN:VEVENT
UID:58d492dd03596ec3eddd1f0d@squarespace.com
DTSTAMP:20170324T033110Z
DTSTART:20170805T000000Z
DTEND:20170805T010000Z
SUMMARY:Thredbo Lounge Bar - DUO
GEO:-36.504558;148.304878
LOCATION:Thredbo Lounge Bar
END:VEVENT
END:VCALENDAR
