BEGIN:VCALENDAR
VERSION:2.0
PRODID:-//Squarespace Inc/Squarespace 6//v6//EN
BEGIN:VEVENT
UID:58d49311b8a79b27eb3bcb53@squarespace.com
DTSTAMP:20170802T120949Z
DTSTART:20170806T000000Z
DTEND:20170806T010000Z
SUMMARY:Thredbo Lounge Bar DUO
GEO:-36.504433;148.305212
LOCATION:Thredbo Schuss Bar
END:VEVENT
END:VCALENDAR
