BEGIN:VCALENDAR
VERSION:2.0
PRODID:-//Squarespace Inc/Squarespace 6//v6//EN
BEGIN:VEVENT
UID:5951d38d78d171b90599b27f@squarespace.com
DTSTAMP:20170627T034014Z
DTSTART:20170812T010000Z
DTEND:20170812T035900Z
SUMMARY:Thredbo Schuss Bar TRIO
GEO:-36.501296;148.310377
LOCATION:Schuss Bar\, Thredbo
END:VEVENT
END:VCALENDAR
