BEGIN:VCALENDAR
VERSION:2.0
PRODID:-//Squarespace Inc/Squarespace 6//v6//EN
BEGIN:VEVENT
UID:5951d3bb20099e11d3ea1dd2@squarespace.com
DTSTAMP:20170627T034129Z
DTSTART:20170813T010000Z
DTEND:20170813T035900Z
SUMMARY:Thredbo Schuss Bar TRIO
GEO:-36.501296;148.310377
LOCATION:Schuss Bar\, Thredbo
END:VEVENT
END:VCALENDAR
