BEGIN:VCALENDAR
VERSION:2.0
PRODID:-//Squarespace Inc/Squarespace 6//v6//EN
BEGIN:VEVENT
UID:58d494586b8f5b5c78cca479@squarespace.com
DTSTAMP:20170627T033947Z
DTSTART:20170810T010000Z
DTEND:20170810T035900Z
SUMMARY:Thredbo Schuss Bar TRIO
GEO:-36.501296;148.310377
LOCATION:Schuss Bar\, Thredbo
END:VEVENT
END:VCALENDAR
