BEGIN:VCALENDAR
VERSION:2.0
PRODID:-//Squarespace Inc/Squarespace 6//v6//EN
BEGIN:VEVENT
UID:59acadd2f14aa16da6b3e1dc@squarespace.com
DTSTAMP:20170904T013602Z
DTSTART:20170923T010000Z
DTEND:20170923T035900Z
SUMMARY:The Kave Bar\, Newport
END:VEVENT
END:VCALENDAR
