BEGIN:VCALENDAR
VERSION:2.0
PRODID:-//Squarespace Inc/Squarespace 6//v6//EN
BEGIN:VEVENT
UID:59c2f718914e6bd43044cab4@squarespace.com
DTSTAMP:20170920T231826Z
DTSTART:20170926T003000Z
DTEND:20170926T013000Z
SUMMARY:Venus 6 piece - Sydney Town Hall
END:VEVENT
END:VCALENDAR
