BEGIN:VCALENDAR
VERSION:2.0
PRODID:-//Squarespace Inc/Squarespace 6//v6//EN
BEGIN:VEVENT
UID:59c2f7708dd041b328c6d88b@squarespace.com
DTSTAMP:20170920T232021Z
DTSTART:20170930T013000Z
DTEND:20170930T035500Z
SUMMARY:Smiggins Hotel - TRIO
END:VEVENT
END:VCALENDAR
