BEGIN:VCALENDAR
VERSION:2.0
PRODID:-//Squarespace Inc/Squarespace 6//v6//EN
BEGIN:VEVENT
UID:59acaef903596e9ba0656bf1@squarespace.com
DTSTAMP:20170920T232035Z
DTSTART:20171001T010000Z
DTEND:20171001T035900Z
SUMMARY:Smiggins Hotel - TRIO
END:VEVENT
END:VCALENDAR
