BEGIN:VCALENDAR
VERSION:2.0
PRODID:-//Squarespace Inc/Squarespace 6//v6//EN
BEGIN:VEVENT
UID:59acae7be9bfdff520527aa2@squarespace.com
DTSTAMP:20170920T232050Z
DTSTART:20170930T170000Z
DTEND:20170930T210000Z
SUMMARY:Thredbo Alpine Hotel - TRIO
END:VEVENT
END:VCALENDAR
