BEGIN:VCALENDAR
VERSION:2.0
PRODID:-//Squarespace Inc/Squarespace 6//v6//EN
BEGIN:VEVENT
UID:5a6e5836e4966b35d927894a@squarespace.com
DTSTAMP:20180128T231002Z
DTSTART:20180124T233000Z
DTEND:20180125T003000Z
SUMMARY:Venus 4 piece - Sydney Town Hall
END:VEVENT
END:VCALENDAR
