BEGIN:VCALENDAR
VERSION:2.0
PRODID:-//Squarespace Inc/Squarespace 6//v6//EN
BEGIN:VEVENT
UID:59c2f9e8a803bbd8e689c91e@squarespace.com
DTSTAMP:20170920T233106Z
DTSTART:20180106T230000Z
DTEND:20180107T045900Z
SUMMARY:Private Function - Peats Bite\, Hawkesbury TRIO
END:VEVENT
END:VCALENDAR
