BEGIN:VCALENDAR
VERSION:2.0
PRODID:-//Squarespace Inc/Squarespace 6//v6//EN
BEGIN:VEVENT
UID:5a6e8514e2c4832dd2e184a2@squarespace.com
DTSTAMP:20180129T022134Z
DTSTART:20180313T220000Z
DTEND:20180314T030000Z
SUMMARY:Private Function - TRIO - ON HOLD
END:VEVENT
END:VCALENDAR
