BEGIN:VCALENDAR
VERSION:2.0
PRODID:-//Squarespace Inc/Squarespace 6//v6//EN
BEGIN:VEVENT
UID:5a6e5cd49140b70ed96c7275@squarespace.com
DTSTAMP:20180128T233047Z
DTSTART:20180218T233000Z
DTEND:20180219T043000Z
SUMMARY:Private Function - TRIO
END:VEVENT
END:VCALENDAR
