BEGIN:VCALENDAR
VERSION:2.0
PRODID:-//Squarespace Inc/Squarespace 6//v6//EN
BEGIN:VEVENT
UID:5a6e5df8f9619a15b61348da@squarespace.com
DTSTAMP:20180128T233430Z
DTSTART:20180324T220000Z
DTEND:20180325T030000Z
SUMMARY:Private Function - TRIO
END:VEVENT
END:VCALENDAR
