BEGIN:VCALENDAR
VERSION:2.0
PRODID:-//Squarespace Inc/Squarespace 6//v6//EN
BEGIN:VEVENT
UID:5a6e5d380d92971475b61461@squarespace.com
DTSTAMP:20180128T233140Z
DTSTART:20180302T230000Z
DTEND:20180303T040000Z
SUMMARY:Private Function - TRIO
END:VEVENT
END:VCALENDAR
