BEGIN:VCALENDAR
VERSION:2.0
PRODID:-//Squarespace Inc/Squarespace 6//v6//EN
BEGIN:VEVENT
UID:5a6e5d660d92971475b61f2f@squarespace.com
DTSTAMP:20180128T233228Z
DTSTART:20180303T230000Z
DTEND:20180304T040000Z
SUMMARY:Private Function - TRIO
END:VEVENT
END:VCALENDAR
