BEGIN:VCALENDAR
VERSION:2.0
PRODID:-//Squarespace Inc/Squarespace 6//v6//EN
BEGIN:VEVENT
UID:5a6e5d99652dea30bd03891d@squarespace.com
DTSTAMP:20180128T233322Z
DTSTART:20180307T230000Z
DTEND:20180308T040000Z
SUMMARY:Private Function - TRIO ON HOLD
END:VEVENT
END:VCALENDAR
