BEGIN:VCALENDAR
VERSION:2.0
PRODID:-//Squarespace Inc/Squarespace 6//v6//EN
BEGIN:VEVENT
UID:5a6e586353450a1718c8419f@squarespace.com
DTSTAMP:20180128T231254Z
DTSTART:20180209T230000Z
DTEND:20180210T043000Z
SUMMARY:Wedding - Botanical Gardens
END:VEVENT
END:VCALENDAR
